BEGIN:VCALENDAR
VERSION:2.0
PRODID:-//Northern California District Exchange Clubs - ECPv6.15.20//NONSGML v1.0//EN
CALSCALE:GREGORIAN
METHOD:PUBLISH
X-ORIGINAL-URL:https://norcalexchangedistrict.org
X-WR-CALDESC:Events for Northern California District Exchange Clubs
REFRESH-INTERVAL;VALUE=DURATION:PT1H
X-Robots-Tag:noindex
X-PUBLISHED-TTL:PT1H
BEGIN:VTIMEZONE
TZID:America/Los_Angeles
BEGIN:DAYLIGHT
TZOFFSETFROM:-0800
TZOFFSETTO:-0700
TZNAME:PDT
DTSTART:20250309T100000
END:DAYLIGHT
BEGIN:STANDARD
TZOFFSETFROM:-0700
TZOFFSETTO:-0800
TZNAME:PST
DTSTART:20251102T090000
END:STANDARD
BEGIN:DAYLIGHT
TZOFFSETFROM:-0800
TZOFFSETTO:-0700
TZNAME:PDT
DTSTART:20260308T100000
END:DAYLIGHT
BEGIN:STANDARD
TZOFFSETFROM:-0700
TZOFFSETTO:-0800
TZNAME:PST
DTSTART:20261101T090000
END:STANDARD
BEGIN:DAYLIGHT
TZOFFSETFROM:-0800
TZOFFSETTO:-0700
TZNAME:PDT
DTSTART:20270314T100000
END:DAYLIGHT
BEGIN:STANDARD
TZOFFSETFROM:-0700
TZOFFSETTO:-0800
TZNAME:PST
DTSTART:20271107T090000
END:STANDARD
END:VTIMEZONE
BEGIN:VEVENT
DTSTART;TZID=America/Los_Angeles:20260424T113000
DTEND;TZID=America/Los_Angeles:20260424T113000
DTSTAMP:20260423T072835
CREATED:20260310T230057Z
LAST-MODIFIED:20260311T171235Z
UID:2085-1777030200-1777030200@norcalexchangedistrict.org
SUMMARY:Community Service Golf Tournament
DESCRIPTION:To register\, please contact: carlhenker@sbcglobal.net
URL:https://norcalexchangedistrict.org/calendar/community-service-golf-tournament/
LOCATION:Bidwell Park Golf Course\, Bidwell Park Golf Course 3199 Golf Course Rd\, Chico\, CA\, 95973\, United States
END:VEVENT
END:VCALENDAR