BEGIN:VCALENDAR
VERSION:2.0
PRODID:-//Northern California District Exchange Clubs - ECPv6.15.20//NONSGML v1.0//EN
CALSCALE:GREGORIAN
METHOD:PUBLISH
X-WR-CALNAME:Northern California District Exchange Clubs
X-ORIGINAL-URL:https://norcalexchangedistrict.org
X-WR-CALDESC:Events for Northern California District Exchange Clubs
REFRESH-INTERVAL;VALUE=DURATION:PT1H
X-Robots-Tag:noindex
X-PUBLISHED-TTL:PT1H
BEGIN:VTIMEZONE
TZID:America/Los_Angeles
BEGIN:DAYLIGHT
TZOFFSETFROM:-0800
TZOFFSETTO:-0700
TZNAME:PDT
DTSTART:20240310T100000
END:DAYLIGHT
BEGIN:STANDARD
TZOFFSETFROM:-0700
TZOFFSETTO:-0800
TZNAME:PST
DTSTART:20241103T090000
END:STANDARD
BEGIN:DAYLIGHT
TZOFFSETFROM:-0800
TZOFFSETTO:-0700
TZNAME:PDT
DTSTART:20250309T100000
END:DAYLIGHT
BEGIN:STANDARD
TZOFFSETFROM:-0700
TZOFFSETTO:-0800
TZNAME:PST
DTSTART:20251102T090000
END:STANDARD
BEGIN:DAYLIGHT
TZOFFSETFROM:-0800
TZOFFSETTO:-0700
TZNAME:PDT
DTSTART:20260308T100000
END:DAYLIGHT
BEGIN:STANDARD
TZOFFSETFROM:-0700
TZOFFSETTO:-0800
TZNAME:PST
DTSTART:20261101T090000
END:STANDARD
END:VTIMEZONE
BEGIN:VEVENT
DTSTART;TZID=America/Los_Angeles:20250419T120000
DTEND;TZID=America/Los_Angeles:20250419T120000
DTSTAMP:20260423T230101
CREATED:20250107T235052Z
LAST-MODIFIED:20250107T235139Z
UID:1650-1745064000-1745064000@norcalexchangedistrict.org
SUMMARY:2025 Chico Brewfest presented by Chico Noon Exchange Club
DESCRIPTION:The Chico Brewfest started in 2011 to help support the many local charities of the Chico Noon Exchange Foundation. Thanks to generous sponsors\, vendors\, breweries\, restaurants\, volunteers\, and beer enthusiasts\, like you\, we have raised over $311\,000 from this event for Chico charities supporting Veterans and the Prevention of Child Abuse.\nThe Chico Noon Exchange Club and the Chico Noon Exchange Foundation have been raising funds for over 75 years to support local charities in our community with a focus on veterans\, patriotism\, and the prevention of child abuse in Butte County. The Chico Brewfest has now become the Chico Noon Exchange Foundation’s largest event\, raising over $265\,000 since its inception in 2011.
URL:https://norcalexchangedistrict.org/calendar/chico-brewfest-2025/
LOCATION:at the Silver Dollar Fairgrounds (Commercial Building)\, Silver Dollar Fairgrounds 2357 Fair St\, Chico\, CA\, 95928\, United States
END:VEVENT
END:VCALENDAR