BEGIN:VCALENDAR
VERSION:2.0
PRODID:-//Northern California District Exchange Clubs - ECPv6.15.20//NONSGML v1.0//EN
CALSCALE:GREGORIAN
METHOD:PUBLISH
X-WR-CALNAME:Northern California District Exchange Clubs
X-ORIGINAL-URL:https://norcalexchangedistrict.org
X-WR-CALDESC:Events for Northern California District Exchange Clubs
REFRESH-INTERVAL;VALUE=DURATION:PT1H
X-Robots-Tag:noindex
X-PUBLISHED-TTL:PT1H
BEGIN:VTIMEZONE
TZID:America/Los_Angeles
BEGIN:DAYLIGHT
TZOFFSETFROM:-0800
TZOFFSETTO:-0700
TZNAME:PDT
DTSTART:20230312T100000
END:DAYLIGHT
BEGIN:STANDARD
TZOFFSETFROM:-0700
TZOFFSETTO:-0800
TZNAME:PST
DTSTART:20231105T090000
END:STANDARD
BEGIN:DAYLIGHT
TZOFFSETFROM:-0800
TZOFFSETTO:-0700
TZNAME:PDT
DTSTART:20240310T100000
END:DAYLIGHT
BEGIN:STANDARD
TZOFFSETFROM:-0700
TZOFFSETTO:-0800
TZNAME:PST
DTSTART:20241103T090000
END:STANDARD
BEGIN:DAYLIGHT
TZOFFSETFROM:-0800
TZOFFSETTO:-0700
TZNAME:PDT
DTSTART:20250309T100000
END:DAYLIGHT
BEGIN:STANDARD
TZOFFSETFROM:-0700
TZOFFSETTO:-0800
TZNAME:PST
DTSTART:20251102T090000
END:STANDARD
END:VTIMEZONE
BEGIN:VEVENT
DTSTART;TZID=America/Los_Angeles:20240413T130000
DTEND;TZID=America/Los_Angeles:20240413T160000
DTSTAMP:20260424T155810
CREATED:20240207T164403Z
LAST-MODIFIED:20240207T175210Z
UID:1337-1713013200-1713024000@norcalexchangedistrict.org
SUMMARY:Chico Brewfest presented by Chico Noon Exchange Club
DESCRIPTION:The Chico Brewfest started in 2011 to help support the many local charities of the Chico Noon Exchange Foundation. Thanks to generous sponsors\, vendors\, breweries\, restaurants\, volunteers\, and beer enthusiasts\, like you\, we have raised over $311\,000 from this event for Chico charities supporting Veterans and the Prevention of Child Abuse.\nThe Chico Noon Exchange Club and the Chico Noon Exchange Foundation have been raising funds for over 75 years to support local charities in our community with a focus on veterans\, patriotism\, and the prevention of child abuse in Butte County. The Chico Brewfest has now become the Chico Noon Exchange Foundation’s largest event\, raising over $265\,000 since its inception in 2011.
URL:https://norcalexchangedistrict.org/calendar/chico-brewfest-2024/
LOCATION:at the Silver Dollar Fairgrounds (Commercial Building)\, Silver Dollar Fairgrounds 2357 Fair St\, Chico\, CA\, 95928\, United States
END:VEVENT
BEGIN:VEVENT
DTSTART;TZID=America/Los_Angeles:20240420T180000
DTEND;TZID=America/Los_Angeles:20240420T180000
DTSTAMP:20260424T155810
CREATED:20240207T173427Z
LAST-MODIFIED:20240207T175042Z
UID:1340-1713636000-1713636000@norcalexchangedistrict.org
SUMMARY:"Search For Talent" presented by Exchange Club of Oroville
DESCRIPTION:
URL:https://norcalexchangedistrict.org/calendar/search-for-talent-2024/
LOCATION:Oroville State Theater\, Oroville State Theater 1489 Myers St\, Oroville\, CA\, 95965\, United States
END:VEVENT
BEGIN:VEVENT
DTSTART;VALUE=DATE:20240422
DTEND;VALUE=DATE:20240423
DTSTAMP:20260424T155810
CREATED:20240318T202117Z
LAST-MODIFIED:20240318T203652Z
UID:1463-1713744000-1713830399@norcalexchangedistrict.org
SUMMARY:Annual Golf Tournament
DESCRIPTION:
URL:https://norcalexchangedistrict.org/calendar/annual-golf-tournament/
LOCATION:Butte Creek Country Club\, Butte Creek Country Club 175 Estates Dr\, Chico\, CA\, 95928\, United States
END:VEVENT
END:VCALENDAR