BEGIN:VCALENDAR
VERSION:2.0
PRODID:-//Northern California District Exchange Clubs - ECPv6.15.20//NONSGML v1.0//EN
CALSCALE:GREGORIAN
METHOD:PUBLISH
X-WR-CALNAME:Northern California District Exchange Clubs
X-ORIGINAL-URL:https://norcalexchangedistrict.org
X-WR-CALDESC:Events for Northern California District Exchange Clubs
REFRESH-INTERVAL;VALUE=DURATION:PT1H
X-Robots-Tag:noindex
X-PUBLISHED-TTL:PT1H
BEGIN:VTIMEZONE
TZID:America/Los_Angeles
BEGIN:DAYLIGHT
TZOFFSETFROM:-0800
TZOFFSETTO:-0700
TZNAME:PDT
DTSTART:20220313T100000
END:DAYLIGHT
BEGIN:STANDARD
TZOFFSETFROM:-0700
TZOFFSETTO:-0800
TZNAME:PST
DTSTART:20221106T090000
END:STANDARD
BEGIN:DAYLIGHT
TZOFFSETFROM:-0800
TZOFFSETTO:-0700
TZNAME:PDT
DTSTART:20230312T100000
END:DAYLIGHT
BEGIN:STANDARD
TZOFFSETFROM:-0700
TZOFFSETTO:-0800
TZNAME:PST
DTSTART:20231105T090000
END:STANDARD
BEGIN:DAYLIGHT
TZOFFSETFROM:-0800
TZOFFSETTO:-0700
TZNAME:PDT
DTSTART:20240310T100000
END:DAYLIGHT
BEGIN:STANDARD
TZOFFSETFROM:-0700
TZOFFSETTO:-0800
TZNAME:PST
DTSTART:20241103T090000
END:STANDARD
BEGIN:DAYLIGHT
TZOFFSETFROM:-0800
TZOFFSETTO:-0700
TZNAME:PDT
DTSTART:20250309T100000
END:DAYLIGHT
BEGIN:STANDARD
TZOFFSETFROM:-0700
TZOFFSETTO:-0800
TZNAME:PST
DTSTART:20251102T090000
END:STANDARD
BEGIN:DAYLIGHT
TZOFFSETFROM:-0800
TZOFFSETTO:-0700
TZNAME:PDT
DTSTART:20260308T100000
END:DAYLIGHT
BEGIN:STANDARD
TZOFFSETFROM:-0700
TZOFFSETTO:-0800
TZNAME:PST
DTSTART:20261101T090000
END:STANDARD
BEGIN:DAYLIGHT
TZOFFSETFROM:-0800
TZOFFSETTO:-0700
TZNAME:PDT
DTSTART:20270314T100000
END:DAYLIGHT
BEGIN:STANDARD
TZOFFSETFROM:-0700
TZOFFSETTO:-0800
TZNAME:PST
DTSTART:20271107T090000
END:STANDARD
END:VTIMEZONE
BEGIN:VEVENT
DTSTART;TZID=America/Los_Angeles:20260502T110000
DTEND;TZID=America/Los_Angeles:20260502T110000
DTSTAMP:20260423T140627
CREATED:20260310T230400Z
LAST-MODIFIED:20260311T171215Z
UID:2089-1777719600-1777719600@norcalexchangedistrict.org
SUMMARY:Feather Fiesta Days Kickoff!
DESCRIPTION:🌶🔥 𝐈𝐭’𝐬 𝐇𝐞𝐚𝐭𝐢𝐧𝐠 𝐔𝐩 𝐚𝐭 𝐭𝐡𝐞 𝐅𝐞𝐚𝐭𝐡𝐞𝐫 𝐅𝐢𝐞𝐬𝐭𝐚 𝐃𝐚𝐲𝐬 𝐊𝐢𝐜𝐤𝐨𝐟𝐟! 🔥🌶⁣\nThe Exchange Club of Oroville and the Native Sons of the Golden West are 𝐛𝐫𝐢𝐧𝐠𝐢𝐧𝐠 𝐭𝐡𝐞 𝐡𝐞𝐚𝐭 𝐭𝐨 𝐝𝐨𝐰𝐧𝐭𝐨𝐰𝐧 with a 𝐂𝐡𝐢𝐥𝐢 𝐂𝐨𝐨𝐤-𝐎𝐟𝐟 you won’t want to miss!⁣\n⁣\n𝐓𝐡𝐢𝐧𝐤 𝐲𝐨𝐮𝐫 𝐜𝐡𝐢𝐥𝐢 𝐡𝐚𝐬 𝐰𝐡𝐚𝐭 𝐢𝐭 𝐭𝐚𝐤𝐞𝐬 𝐭𝐨 𝐛𝐞 𝐭𝐡𝐞 𝐛𝐞𝐬𝐭?⁣\n⁣\n𝐖𝐞’𝐫𝐞 𝐥𝐨𝐨𝐤𝐢𝐧𝐠 𝐟𝐨𝐫 𝐠𝐫𝐞𝐚𝐭 𝐜𝐨𝐦𝐩𝐞𝐭𝐢𝐭𝐨𝐫𝐬 𝐫𝐞𝐚𝐝𝐲 𝐭𝐨 𝐬𝐡𝐨𝐰 𝐨𝐟𝐟 𝐭𝐡𝐞𝐢𝐫 𝐛𝐞𝐬𝐭 𝐫𝐞𝐜𝐢𝐩𝐞!⁣\n⁣\n📅 𝐒𝐚𝐭𝐮𝐫𝐝𝐚𝐲\, 𝐌𝐚𝐲 𝟐⁣\n⏰ 𝟏𝟏:𝟎𝟎 𝐀𝐌 – 𝟒:𝟎𝟎 𝐏𝐌⁣\n📍 𝐌𝐲𝐞𝐫𝐬 𝐒𝐭𝐫𝐞𝐞𝐭 — 𝐟𝐫𝐨𝐦 𝐌𝐨𝐧𝐭𝐠𝐨𝐦𝐞𝐫𝐲 𝐭𝐨 𝐭𝐡𝐞 𝐂𝐨𝐧𝐯𝐞𝐧𝐭𝐢𝐨𝐧 𝐂𝐞𝐧𝐭𝐞𝐫⁣\n⁣\nEnjoy the excitement of 𝐅𝐞𝐚𝐭𝐡𝐞𝐫 𝐅𝐢𝐞𝐬𝐭𝐚 𝐃𝐚𝐲𝐬 𝐊𝐢𝐜𝐤𝐨𝐟𝐟\, amazing chili\, and friendly competition right in the heart of Oroville.⁣\n⁣\n👩‍🍳 𝐈𝐧𝐭𝐞𝐫𝐞𝐬𝐭𝐞𝐝 𝐢𝐧 𝐜𝐨𝐦𝐩𝐞𝐭𝐢𝐧𝐠?⁣\n𝐑𝐞𝐚𝐜𝐡 𝐨𝐮𝐭 𝐭𝐨 𝐮𝐬 𝐟𝐨𝐫 𝐝𝐞𝐭𝐚𝐢𝐥𝐬!⁣\n⁣\n📧 𝐌𝐨𝐫𝐞 𝐈𝐧𝐟𝐨: 𝐅𝐅𝐃𝐊𝐎𝟐𝟎𝟐𝟔@𝐠𝐦𝐚𝐢𝐥.𝐜𝐨𝐦⁣\n⁣
URL:https://norcalexchangedistrict.org/calendar/feather-fiesta-days-kickoff/
LOCATION:Downtown Oroville\, Montgomery St\, Oroville\, CA\, United States
END:VEVENT
BEGIN:VEVENT
DTSTART;TZID=America/Los_Angeles:20260424T113000
DTEND;TZID=America/Los_Angeles:20260424T113000
DTSTAMP:20260423T140627
CREATED:20260310T230057Z
LAST-MODIFIED:20260311T171235Z
UID:2085-1777030200-1777030200@norcalexchangedistrict.org
SUMMARY:Community Service Golf Tournament
DESCRIPTION:To register\, please contact: carlhenker@sbcglobal.net
URL:https://norcalexchangedistrict.org/calendar/community-service-golf-tournament/
LOCATION:Bidwell Park Golf Course\, Bidwell Park Golf Course 3199 Golf Course Rd\, Chico\, CA\, 95973\, United States
END:VEVENT
BEGIN:VEVENT
DTSTART;TZID=America/Los_Angeles:20260411T130000
DTEND;TZID=America/Los_Angeles:20260411T130000
DTSTAMP:20260423T140627
CREATED:20260310T225838Z
LAST-MODIFIED:20260311T171249Z
UID:2082-1775912400-1775912400@norcalexchangedistrict.org
SUMMARY:Chico Brewfest 2026
DESCRIPTION:Join the Chico Noon Exchange Club for our annual Chico Brewfest! Great beer and food. 100% of the proceeds go to local charities.
URL:https://norcalexchangedistrict.org/calendar/chico-brewfest-2026/
LOCATION:Patrick Ranch\, Patrick Ranch Museum 10381 Midway\, Durham\, CA\, 95938\, United States
END:VEVENT
BEGIN:VEVENT
DTSTART;TZID=America/Los_Angeles:20251213T120000
DTEND;TZID=America/Los_Angeles:20251213T120000
DTSTAMP:20260423T140627
CREATED:20250808T213555Z
LAST-MODIFIED:20250808T214321Z
UID:2016-1765627200-1765627200@norcalexchangedistrict.org
SUMMARY:Wreaths Across America\, a project of Exchange Club of Santa Rosa
DESCRIPTION:
URL:https://norcalexchangedistrict.org/calendar/wreaths-across-america-a-project-of-exchange-club-of-santa-rosa/
LOCATION:Santa Rosa Memorial Park\, Santa Rosa Memorial Park 1900 Franklin Ave\, Santa Rosa\, CA\, 95404\, United States
END:VEVENT
BEGIN:VEVENT
DTSTART;TZID=America/Los_Angeles:20251111T000000
DTEND;TZID=America/Los_Angeles:20251111T000000
DTSTAMP:20260423T140627
CREATED:20250808T213635Z
LAST-MODIFIED:20250808T214339Z
UID:2018-1762819200-1762819200@norcalexchangedistrict.org
SUMMARY:Veteran's Day parade
DESCRIPTION:
URL:https://norcalexchangedistrict.org/calendar/veterans-day-parade/
LOCATION:Downtown Oroville\, Montgomery St\, Oroville\, CA\, United States
END:VEVENT
BEGIN:VEVENT
DTSTART;TZID=America/Los_Angeles:20251107T000000
DTEND;TZID=America/Los_Angeles:20251109T000000
DTSTAMP:20260423T140627
CREATED:20250808T213202Z
LAST-MODIFIED:20250808T213202Z
UID:2009-1762473600-1762646400@norcalexchangedistrict.org
SUMMARY:Region 1 Mid-Winter Conference
DESCRIPTION:
URL:https://norcalexchangedistrict.org/calendar/region-1-mid-winter-conference/
LOCATION:Tachi Palace Casino Resort\, Tachi Palace Casino Resort 17225 Jersey Ave\, Lemoore\, CA\, 93245\, United States
END:VEVENT
BEGIN:VEVENT
DTSTART;TZID=America/Los_Angeles:20251011T180000
DTEND;TZID=America/Los_Angeles:20251011T180000
DTSTAMP:20260423T140627
CREATED:20250808T214111Z
LAST-MODIFIED:20250808T214253Z
UID:2020-1760205600-1760205600@norcalexchangedistrict.org
SUMMARY:Redding Oktoberfest
DESCRIPTION:2nd Annual Redding Oktoberfest\nRedding Oktoberfest\, hosted by the Exchange Club of Redding\, is back and bigger than ever. Join us Saturday\, October 11th at Historic Tiger Field for an unforgettable 21+ celebration filled with local craft beer\, delicious food trucks\, live music\, and classic Oktoberfest games like axe throwing\, beer pong\, and a cornhole tournament. This event benefits the Redding Colt 45’s and other local organizations.
URL:https://norcalexchangedistrict.org/calendar/redding-oktoberfest/
LOCATION:Tiger Field\, Tiger Field 1000 W Cypress Ave\, Redding\, CA\, 96001\, United States
ATTACH;FMTTYPE=image/png:https://norcalexchangedistrict.org/wp-content/uploads/2025/08/Oktoberfest-SM-NewDesign-16x9-v2.png
END:VEVENT
BEGIN:VEVENT
DTSTART;TZID=America/Los_Angeles:20251011T100000
DTEND;TZID=America/Los_Angeles:20251011T140000
DTSTAMP:20260423T140627
CREATED:20250808T213447Z
LAST-MODIFIED:20250808T213447Z
UID:2013-1760176800-1760191200@norcalexchangedistrict.org
SUMMARY:Oroville Exchange Club presents: Community Fall Festival
DESCRIPTION:
URL:https://norcalexchangedistrict.org/calendar/oroville-exchange-club-presents-community-fall-festival/
LOCATION:Tiny Pine Foundation\, 2742 Feather River Blvd\, Oroville\, 95965\, United States
END:VEVENT
BEGIN:VEVENT
DTSTART;VALUE=DATE:20250709
DTEND;VALUE=DATE:20250713
DTSTAMP:20260423T140627
CREATED:20250107T234839Z
LAST-MODIFIED:20250107T234839Z
UID:1647-1752019200-1752364799@norcalexchangedistrict.org
SUMMARY:National Exchange Clubs Annual Convention 2025
DESCRIPTION:
URL:https://norcalexchangedistrict.org/calendar/national-exchange-clubs-annual-convention-2025/
LOCATION:Louisville\, Kentucky\, Louisville\, KY\, United States
END:VEVENT
BEGIN:VEVENT
DTSTART;VALUE=DATE:20250613
DTEND;VALUE=DATE:20250616
DTSTAMP:20260423T140627
CREATED:20250107T234647Z
LAST-MODIFIED:20250107T234647Z
UID:1645-1749772800-1750031999@norcalexchangedistrict.org
SUMMARY:Northern California District Convention 2025
DESCRIPTION:For registration info\, please call Kristen Wilson at 530-570-2385
URL:https://norcalexchangedistrict.org/calendar/northern-california-district-convention-2025/
LOCATION:Feather Falls Casino\, Feather Falls Casino 3 Alverda Dr\,\, Oroville\, CA\, 95966\, United States
END:VEVENT
BEGIN:VEVENT
DTSTART;TZID=America/Los_Angeles:20250419T120000
DTEND;TZID=America/Los_Angeles:20250419T120000
DTSTAMP:20260423T140627
CREATED:20250107T235052Z
LAST-MODIFIED:20250107T235139Z
UID:1650-1745064000-1745064000@norcalexchangedistrict.org
SUMMARY:2025 Chico Brewfest presented by Chico Noon Exchange Club
DESCRIPTION:The Chico Brewfest started in 2011 to help support the many local charities of the Chico Noon Exchange Foundation. Thanks to generous sponsors\, vendors\, breweries\, restaurants\, volunteers\, and beer enthusiasts\, like you\, we have raised over $311\,000 from this event for Chico charities supporting Veterans and the Prevention of Child Abuse.\nThe Chico Noon Exchange Club and the Chico Noon Exchange Foundation have been raising funds for over 75 years to support local charities in our community with a focus on veterans\, patriotism\, and the prevention of child abuse in Butte County. The Chico Brewfest has now become the Chico Noon Exchange Foundation’s largest event\, raising over $265\,000 since its inception in 2011.
URL:https://norcalexchangedistrict.org/calendar/chico-brewfest-2025/
LOCATION:at the Silver Dollar Fairgrounds (Commercial Building)\, Silver Dollar Fairgrounds 2357 Fair St\, Chico\, CA\, 95928\, United States
END:VEVENT
BEGIN:VEVENT
DTSTART;VALUE=DATE:20240710
DTEND;VALUE=DATE:20240714
DTSTAMP:20260423T140627
CREATED:20240207T174229Z
LAST-MODIFIED:20240207T175320Z
UID:1347-1720569600-1720915199@norcalexchangedistrict.org
SUMMARY:National Exchange Clubs Annual Convention
DESCRIPTION:
URL:https://norcalexchangedistrict.org/calendar/national-exchange-clubs-annual-convention/
LOCATION:Hyatt Regency San Antonio Riverwalk\, Hyatt Regency San Antonio Riverwalk 123 Losoya St\, San Antonio\, TX\, 78205\, United States
END:VEVENT
BEGIN:VEVENT
DTSTART;VALUE=DATE:20240607
DTEND;VALUE=DATE:20240610
DTSTAMP:20260423T140627
CREATED:20240207T173932Z
LAST-MODIFIED:20240207T175314Z
UID:1344-1717718400-1717977599@norcalexchangedistrict.org
SUMMARY:Northern California District Convention
DESCRIPTION:For registration info\, please call Kristen Wilson at 530-570-2385
URL:https://norcalexchangedistrict.org/calendar/northern-california-district-convention/
LOCATION:Rolling Hills Casino Resort\, Rolling Hills Casino Resort 2655 Everett Freeman Way\, Corning\, CA\, 96021\, United States
END:VEVENT
BEGIN:VEVENT
DTSTART;VALUE=DATE:20240504
DTEND;VALUE=DATE:20240505
DTSTAMP:20260423T140627
CREATED:20240318T203624Z
LAST-MODIFIED:20240318T203728Z
UID:1466-1714780800-1714867199@norcalexchangedistrict.org
SUMMARY:Feather Fiesta Days Parade
DESCRIPTION:
URL:https://norcalexchangedistrict.org/calendar/feather-fiesta-days-parade/
LOCATION:Downtown Oroville\, Montgomery St\, Oroville\, CA\, United States
END:VEVENT
BEGIN:VEVENT
DTSTART;VALUE=DATE:20240422
DTEND;VALUE=DATE:20240423
DTSTAMP:20260423T140627
CREATED:20240318T202117Z
LAST-MODIFIED:20240318T203652Z
UID:1463-1713744000-1713830399@norcalexchangedistrict.org
SUMMARY:Annual Golf Tournament
DESCRIPTION:
URL:https://norcalexchangedistrict.org/calendar/annual-golf-tournament/
LOCATION:Butte Creek Country Club\, Butte Creek Country Club 175 Estates Dr\, Chico\, CA\, 95928\, United States
END:VEVENT
BEGIN:VEVENT
DTSTART;TZID=America/Los_Angeles:20240420T180000
DTEND;TZID=America/Los_Angeles:20240420T180000
DTSTAMP:20260423T140627
CREATED:20240207T173427Z
LAST-MODIFIED:20240207T175042Z
UID:1340-1713636000-1713636000@norcalexchangedistrict.org
SUMMARY:"Search For Talent" presented by Exchange Club of Oroville
DESCRIPTION:
URL:https://norcalexchangedistrict.org/calendar/search-for-talent-2024/
LOCATION:Oroville State Theater\, Oroville State Theater 1489 Myers St\, Oroville\, CA\, 95965\, United States
END:VEVENT
BEGIN:VEVENT
DTSTART;TZID=America/Los_Angeles:20240413T130000
DTEND;TZID=America/Los_Angeles:20240413T160000
DTSTAMP:20260423T140627
CREATED:20240207T164403Z
LAST-MODIFIED:20240207T175210Z
UID:1337-1713013200-1713024000@norcalexchangedistrict.org
SUMMARY:Chico Brewfest presented by Chico Noon Exchange Club
DESCRIPTION:The Chico Brewfest started in 2011 to help support the many local charities of the Chico Noon Exchange Foundation. Thanks to generous sponsors\, vendors\, breweries\, restaurants\, volunteers\, and beer enthusiasts\, like you\, we have raised over $311\,000 from this event for Chico charities supporting Veterans and the Prevention of Child Abuse.\nThe Chico Noon Exchange Club and the Chico Noon Exchange Foundation have been raising funds for over 75 years to support local charities in our community with a focus on veterans\, patriotism\, and the prevention of child abuse in Butte County. The Chico Brewfest has now become the Chico Noon Exchange Foundation’s largest event\, raising over $265\,000 since its inception in 2011.
URL:https://norcalexchangedistrict.org/calendar/chico-brewfest-2024/
LOCATION:at the Silver Dollar Fairgrounds (Commercial Building)\, Silver Dollar Fairgrounds 2357 Fair St\, Chico\, CA\, 95928\, United States
END:VEVENT
BEGIN:VEVENT
DTSTART;TZID=America/Los_Angeles:20231216T120000
DTEND;TZID=America/Los_Angeles:20231216T120000
DTSTAMP:20260423T140627
CREATED:20231016T205017Z
LAST-MODIFIED:20231016T205029Z
UID:1306-1702728000-1702728000@norcalexchangedistrict.org
SUMMARY:Wreaths Across America Event
DESCRIPTION:Laying Wreaths on Veteran Graves
URL:https://norcalexchangedistrict.org/calendar/wreaths-across-america-event/
LOCATION:Santa Rosa Memorial Park\, Santa Rosa Memorial Park 1900 Franklin Ave\, Santa Rosa\, CA\, 95404\, United States
END:VEVENT
BEGIN:VEVENT
DTSTART;TZID=America/Los_Angeles:20231111T110000
DTEND;TZID=America/Los_Angeles:20231111T110000
DTSTAMP:20260423T140627
CREATED:20231016T204439Z
LAST-MODIFIED:20231016T205424Z
UID:1303-1699700400-1699700400@norcalexchangedistrict.org
SUMMARY:Veteran's Day Parade 2023
DESCRIPTION:
URL:https://norcalexchangedistrict.org/calendar/veterans-day-parade-2023/
LOCATION:Downtown Oroville\, Montgomery St\, Oroville\, CA\, United States
END:VEVENT
BEGIN:VEVENT
DTSTART;TZID=America/Los_Angeles:20231028T150000
DTEND;TZID=America/Los_Angeles:20231028T200000
DTSTAMP:20260423T140627
CREATED:20231016T203235Z
LAST-MODIFIED:20231016T205529Z
UID:1296-1698505200-1698523200@norcalexchangedistrict.org
SUMMARY:Halloween Pumpkin Decorating
DESCRIPTION:Where: on the hill next to the YMCA
URL:https://norcalexchangedistrict.org/calendar/halloween-pumpkin-decorating/
LOCATION:Oroville YMCA\, Oroville YMCA 1200 Myers St\, Oroville\, CA\, 95965\, United States
END:VEVENT
BEGIN:VEVENT
DTSTART;TZID=America/Los_Angeles:20230916T173000
DTEND;TZID=America/Los_Angeles:20230916T173000
DTSTAMP:20260423T140627
CREATED:20230626T222658Z
LAST-MODIFIED:20230626T223703Z
UID:1277-1694885400-1694885400@norcalexchangedistrict.org
SUMMARY:Whiskey & Wings
DESCRIPTION:Enjoy Whiskey and Spirits tasting hosted by the Chico Noon Exchange Foundation at the Chico Air Museum\, live music and appetizers from local companies. \nEarly bird tickets are $65.00. Tickets go up to $75 approximately 30 days or so before the event. \nGet Tickets Here
URL:https://norcalexchangedistrict.org/calendar/whiskey-wings/
LOCATION:Chico Air Museum\, Chico Air Museum 165 Ryan Ave\, Chico\, CA\, 95973\, United States
END:VEVENT
END:VCALENDAR