BEGIN:VCALENDAR
VERSION:2.0
PRODID:-//Northern California District Exchange Clubs - ECPv6.15.20//NONSGML v1.0//EN
CALSCALE:GREGORIAN
METHOD:PUBLISH
X-ORIGINAL-URL:https://norcalexchangedistrict.org
X-WR-CALDESC:Events for Northern California District Exchange Clubs
REFRESH-INTERVAL;VALUE=DURATION:PT1H
X-Robots-Tag:noindex
X-PUBLISHED-TTL:PT1H
BEGIN:VTIMEZONE
TZID:America/Los_Angeles
BEGIN:DAYLIGHT
TZOFFSETFROM:-0800
TZOFFSETTO:-0700
TZNAME:PDT
DTSTART:20250309T100000
END:DAYLIGHT
BEGIN:STANDARD
TZOFFSETFROM:-0700
TZOFFSETTO:-0800
TZNAME:PST
DTSTART:20251102T090000
END:STANDARD
BEGIN:DAYLIGHT
TZOFFSETFROM:-0800
TZOFFSETTO:-0700
TZNAME:PDT
DTSTART:20260308T100000
END:DAYLIGHT
BEGIN:STANDARD
TZOFFSETFROM:-0700
TZOFFSETTO:-0800
TZNAME:PST
DTSTART:20261101T090000
END:STANDARD
BEGIN:DAYLIGHT
TZOFFSETFROM:-0800
TZOFFSETTO:-0700
TZNAME:PDT
DTSTART:20270314T100000
END:DAYLIGHT
BEGIN:STANDARD
TZOFFSETFROM:-0700
TZOFFSETTO:-0800
TZNAME:PST
DTSTART:20271107T090000
END:STANDARD
END:VTIMEZONE
BEGIN:VEVENT
DTSTART;TZID=America/Los_Angeles:20260411T130000
DTEND;TZID=America/Los_Angeles:20260411T130000
DTSTAMP:20260423T085214
CREATED:20260310T225838Z
LAST-MODIFIED:20260311T171249Z
UID:2082-1775912400-1775912400@norcalexchangedistrict.org
SUMMARY:Chico Brewfest 2026
DESCRIPTION:Join the Chico Noon Exchange Club for our annual Chico Brewfest! Great beer and food. 100% of the proceeds go to local charities.
URL:https://norcalexchangedistrict.org/calendar/chico-brewfest-2026/
LOCATION:Patrick Ranch\, Patrick Ranch Museum 10381 Midway\, Durham\, CA\, 95938\, United States
END:VEVENT
END:VCALENDAR